Workbook

Sheet Formular | Stellungnahme >>

Sheet Eingabemaske | Informationen
B5: Konsultation zu Fortentwicklung Redispatch 2.0
B7: Konsultationsstart: Fristende für Übermittlung der Stellungnahme: | F7: 09.11.2026 04.12.2026
B11: Formblatt für Übermittlung von Stellungnahmen
B13: Unternehmen / Verband / Behörde / Sonstige:
B15: Marktrolle: | F15: bitte auswählen
B26: Kontaktdaten
B28: Nachname: | F28: Vorname:
B30: E-Mail: | F30: Telefon:
B34: Weiter auf dem nächsten Tabellenblatt >>

Sheet Stellungnahme | Rahmendokument
C4: Konsultation zu Fortentwicklung Redispatch 2.0
C5: Abgabe Stellungnahme zum Rahmendokument
C6: =IF('Eingabemaske | Informationen'!F13="", "Organisation",'Eingabemaske | Informationen'!F13) -> Organisation
K7: *Pflichtfeld
B9: ID | C9: Bezugs- dokument* | D9: Kapitelnummer* | E9: Kapiteltitel | F9: Zeilenbereich* | G9: Bezugsebene* | H9: Kopie Orginaltext (optional) | I9: Konkreter Änderungsvorschlag* | J9: Anmerkung / Begründung* | K9: Anmerkungsart* | L9: Vollständigkeit | M9: Fehlende Felder / Hinweis
B10: =$C$6 -> Organisation | C10: Prozessdokument | D10: bitte auswählen | E10: {=IF(OR(C10="",C10="bitte auswählen",D10="",D10="bitte auswählen"),"",IFERROR(IF(C10="Prozessdokument",_xlfn.XLOOKUP(TRIM(D10&""),Kapitel!$D$4:$D$169&"",Kapitel!$E$4:$E$169),_xlfn.XLOOKUP(TRIM(D10&""),Kapitel!$A$4:$A$128&"",Kapitel!$B$4:$B$128)),"-"))} | G10: bitte auswählen | K10: bitte auswählen | L10: {=IF(D10="allgemeine Anmerkung","-",IF(SUMPRODUCT(--(D10:K10<>""),--(D10:K10<>"bitte auswählen"))=0,"",IF(SUMPRODUCT(--(((B10:G10="")+(B10:G10="bitte auswählen"))>0))+SUMPRODUCT(--(((I10:K10="")+(I10:K10="bitte auswählen"))>0))=0,"-","!")))} | M10: {=IF(D10="allgemeine Anmerkung","",IF(L10="","",IF(SUMPRODUCT(--(((B10:G10="")+(B10:G10="bitte auswählen"))>0))+SUMPRODUCT(--(((I10:K10="")+(I10:K10="bitte auswählen"))>0))=0,"","Bitte alle Felder ausfüllen: "&_xlfn.TEXTJOIN(", ",TRUE,IF(OR(B10="",B10="bitte auswählen"),ADDRESS(ROW(),COLUMN(B10),4)&" (ID)",""),IF(OR(C10="",C10="bitte auswählen"),ADDRESS(ROW(),COLUMN(C10),4)&" (Bezugsdokument)",""),IF(OR(D10="",D10="bitte auswählen"),ADDRESS(ROW(),COLUMN(D10),4)&" (Kapitelnummer)",""),IF(OR(E10="",E10="bitte auswählen"),ADDRESS(ROW(),COLUMN(E10),4)&" (Kapiteltitel)",""),IF(OR(F10="",F10="bitte auswählen"),ADDRESS(ROW(),COLUMN(F10),4)&" (Zeilenbereich)",""),IF(OR(G10="",G10="bitte auswählen"),ADDRESS(ROW(),COLUMN(G10),4)&" (Bezugsebene)",""),IF(OR(I10="",I10="bitte auswählen"),ADDRESS(ROW(),COLUMN(I10),4)&" (Konkreter Änderungsvorschlag)",""),IF(OR(J10="",J10="bitte auswählen"),ADDRESS(ROW(),COLUMN(J10),4)&" (Anmerkung / Begründung)",""),IF(OR(K10="",K10="bitte auswählen"),ADDRESS(ROW(),COLUMN(K10),4)&" (Anmerkungsart)","")))))}
B11: =$C$6 -> Organisation | C11: Prozessdokument | D11: bitte auswählen | E11: {=IF(OR(C11="",C11="bitte auswählen",D11="",D11="bitte auswählen"),"",IFERROR(IF(C11="Prozessdokument",_xlfn.XLOOKUP(TRIM(D11&""),Kapitel!$D$4:$D$169&"",Kapitel!$E$4:$E$169),_xlfn.XLOOKUP(TRIM(D11&""),Kapitel!$A$4:$A$128&"",Kapitel!$B$4:$B$128)),"-"))} | G11: bitte auswählen | K11: bitte auswählen | L11: {=IF(D11="allgemeine Anmerkung","-",IF(SUMPRODUCT(--(D11:K11<>""),--(D11:K11<>"bitte auswählen"))=0,"",IF(SUMPRODUCT(--(((B11:G11="")+(B11:G11="bitte auswählen"))>0))+SUMPRODUCT(--(((I11:K11="")+(I11:K11="bitte auswählen"))>0))=0,"-","!")))} | M11: {=IF(D11="allgemeine Anmerkung","",IF(L11="","",IF(SUMPRODUCT(--(((B11:G11="")+(B11:G11="bitte auswählen"))>0))+SUMPRODUCT(--(((I11:K11="")+(I11:K11="bitte auswählen"))>0))=0,"","Bitte alle Felder ausfüllen: "&_xlfn.TEXTJOIN(", ",TRUE,IF(OR(B11="",B11="bitte auswählen"),ADDRESS(ROW(),COLUMN(B11),4)&" (ID)",""),IF(OR(C11="",C11="bitte auswählen"),ADDRESS(ROW(),COLUMN(C11),4)&" (Bezugsdokument)",""),IF(OR(D11="",D11="bitte auswählen"),ADDRESS(ROW(),COLUMN(D11),4)&" (Kapitelnummer)",""),IF(OR(E11="",E11="bitte auswählen"),ADDRESS(ROW(),COLUMN(E11),4)&" (Kapiteltitel)",""),IF(OR(F11="",F11="bitte auswählen"),ADDRESS(ROW(),COLUMN(F11),4)&" (Zeilenbereich)",""),IF(OR(G11="",G11="bitte auswählen"),ADDRESS(ROW(),COLUMN(G11),4)&" (Bezugsebene)",""),IF(OR(I11="",I11="bitte auswählen"),ADDRESS(ROW(),COLUMN(I11),4)&" (Konkreter Änderungsvorschlag)",""),IF(OR(J11="",J11="bitte auswählen"),ADDRESS(ROW(),COLUMN(J11),4)&" (Anmerkung / Begründung)",""),IF(OR(K11="",K11="bitte auswählen"),ADDRESS(ROW(),COLUMN(K11),4)&" (Anmerkungsart)","")))))}
B12: =$C$6 -> Organisation | C12: Prozessdokument | D12: bitte auswählen | E12: {=IF(OR(C12="",C12="bitte auswählen",D12="",D12="bitte auswählen"),"",IFERROR(IF(C12="Prozessdokument",_xlfn.XLOOKUP(TRIM(D12&""),Kapitel!$D$4:$D$169&"",Kapitel!$E$4:$E$169),_xlfn.XLOOKUP(TRIM(D12&""),Kapitel!$A$4:$A$128&"",Kapitel!$B$4:$B$128)),"-"))} | G12: bitte auswählen | K12: bitte auswählen | L12: {=IF(D12="allgemeine Anmerkung","-",IF(SUMPRODUCT(--(D12:K12<>""),--(D12:K12<>"bitte auswählen"))=0,"",IF(SUMPRODUCT(--(((B12:G12="")+(B12:G12="bitte auswählen"))>0))+SUMPRODUCT(--(((I12:K12="")+(I12:K12="bitte auswählen"))>0))=0,"-","!")))} | M12: {=IF(D12="allgemeine Anmerkung","",IF(L12="","",IF(SUMPRODUCT(--(((B12:G12="")+(B12:G12="bitte auswählen"))>0))+SUMPRODUCT(--(((I12:K12="")+(I12:K12="bitte auswählen"))>0))=0,"","Bitte alle Felder ausfüllen: "&_xlfn.TEXTJOIN(", ",TRUE,IF(OR(B12="",B12="bitte auswählen"),ADDRESS(ROW(),COLUMN(B12),4)&" (ID)",""),IF(OR(C12="",C12="bitte auswählen"),ADDRESS(ROW(),COLUMN(C12),4)&" (Bezugsdokument)",""),IF(OR(D12="",D12="bitte auswählen"),ADDRESS(ROW(),COLUMN(D12),4)&" (Kapitelnummer)",""),IF(OR(E12="",E12="bitte auswählen"),ADDRESS(ROW(),COLUMN(E12),4)&" (Kapiteltitel)",""),IF(OR(F12="",F12="bitte auswählen"),ADDRESS(ROW(),COLUMN(F12),4)&" (Zeilenbereich)",""),IF(OR(G12="",G12="bitte auswählen"),ADDRESS(ROW(),COLUMN(G12),4)&" (Bezugsebene)",""),IF(OR(I12="",I12="bitte auswählen"),ADDRESS(ROW(),COLUMN(I12),4)&" (Konkreter Änderungsvorschlag)",""),IF(OR(J12="",J12="bitte auswählen"),ADDRESS(ROW(),COLUMN(J12),4)&" (Anmerkung / Begründung)",""),IF(OR(K12="",K12="bitte auswählen"),ADDRESS(ROW(),COLUMN(K12),4)&" (Anmerkungsart)","")))))}
B13: =$C$6 -> Organisation | C13: Prozessdokument | D13: bitte auswählen | E13: {=IF(OR(C13="",C13="bitte auswählen",D13="",D13="bitte auswählen"),"",IFERROR(IF(C13="Prozessdokument",_xlfn.XLOOKUP(TRIM(D13&""),Kapitel!$D$4:$D$169&"",Kapitel!$E$4:$E$169),_xlfn.XLOOKUP(TRIM(D13&""),Kapitel!$A$4:$A$128&"",Kapitel!$B$4:$B$128)),"-"))} | G13: bitte auswählen | K13: bitte auswählen | L13: {=IF(D13="allgemeine Anmerkung","-",IF(SUMPRODUCT(--(D13:K13<>""),--(D13:K13<>"bitte auswählen"))=0,"",IF(SUMPRODUCT(--(((B13:G13="")+(B13:G13="bitte auswählen"))>0))+SUMPRODUCT(--(((I13:K13="")+(I13:K13="bitte auswählen"))>0))=0,"-","!")))} | M13: {=IF(D13="allgemeine Anmerkung","",IF(L13="","",IF(SUMPRODUCT(--(((B13:G13="")+(B13:G13="bitte auswählen"))>0))+SUMPRODUCT(--(((I13:K13="")+(I13:K13="bitte auswählen"))>0))=0,"","Bitte alle Felder ausfüllen: "&_xlfn.TEXTJOIN(", ",TRUE,IF(OR(B13="",B13="bitte auswählen"),ADDRESS(ROW(),COLUMN(B13),4)&" (ID)",""),IF(OR(C13="",C13="bitte auswählen"),ADDRESS(ROW(),COLUMN(C13),4)&" (Bezugsdokument)",""),IF(OR(D13="",D13="bitte auswählen"),ADDRESS(ROW(),COLUMN(D13),4)&" (Kapitelnummer)",""),IF(OR(E13="",E13="bitte auswählen"),ADDRESS(ROW(),COLUMN(E13),4)&" (Kapiteltitel)",""),IF(OR(F13="",F13="bitte auswählen"),ADDRESS(ROW(),COLUMN(F13),4)&" (Zeilenbereich)",""),IF(OR(G13="",G13="bitte auswählen"),ADDRESS(ROW(),COLUMN(G13),4)&" (Bezugsebene)",""),IF(OR(I13="",I13="bitte auswählen"),ADDRESS(ROW(),COLUMN(I13),4)&" (Konkreter Änderungsvorschlag)",""),IF(OR(J13="",J13="bitte auswählen"),ADDRESS(ROW(),COLUMN(J13),4)&" (Anmerkung / Begründung)",""),IF(OR(K13="",K13="bitte auswählen"),ADDRESS(ROW(),COLUMN(K13),4)&" (Anmerkungsart)","")))))}
B14: =$C$6 -> Organisation | C14: Prozessdokument | D14: bitte auswählen | E14: {=IF(OR(C14="",C14="bitte auswählen",D14="",D14="bitte auswählen"),"",IFERROR(IF(C14="Prozessdokument",_xlfn.XLOOKUP(TRIM(D14&""),Kapitel!$D$4:$D$169&"",Kapitel!$E$4:$E$169),_xlfn.XLOOKUP(TRIM(D14&""),Kapitel!$A$4:$A$128&"",Kapitel!$B$4:$B$128)),"-"))} | G14: bitte auswählen | K14: bitte auswählen | L14: {=IF(D14="allgemeine Anmerkung","-",IF(SUMPRODUCT(--(D14:K14<>""),--(D14:K14<>"bitte auswählen"))=0,"",IF(SUMPRODUCT(--(((B14:G14="")+(B14:G14="bitte auswählen"))>0))+SUMPRODUCT(--(((I14:K14="")+(I14:K14="bitte auswählen"))>0))=0,"-","!")))} | M14: {=IF(D14="allgemeine Anmerkung","",IF(L14="","",IF(SUMPRODUCT(--(((B14:G14="")+(B14:G14="bitte auswählen"))>0))+SUMPRODUCT(--(((I14:K14="")+(I14:K14="bitte auswählen"))>0))=0,"","Bitte alle Felder ausfüllen: "&_xlfn.TEXTJOIN(", ",TRUE,IF(OR(B14="",B14="bitte auswählen"),ADDRESS(ROW(),COLUMN(B14),4)&" (ID)",""),IF(OR(C14="",C14="bitte auswählen"),ADDRESS(ROW(),COLUMN(C14),4)&" (Bezugsdokument)",""),IF(OR(D14="",D14="bitte auswählen"),ADDRESS(ROW(),COLUMN(D14),4)&" (Kapitelnummer)",""),IF(OR(E14="",E14="bitte auswählen"),ADDRESS(ROW(),COLUMN(E14),4)&" (Kapiteltitel)",""),IF(OR(F14="",F14="bitte auswählen"),ADDRESS(ROW(),COLUMN(F14),4)&" (Zeilenbereich)",""),IF(OR(G14="",G14="bitte auswählen"),ADDRESS(ROW(),COLUMN(G14),4)&" (Bezugsebene)",""),IF(OR(I14="",I14="bitte auswählen"),ADDRESS(ROW(),COLUMN(I14),4)&" (Konkreter Änderungsvorschlag)",""),IF(OR(J14="",J14="bitte auswählen"),ADDRESS(ROW(),COLUMN(J14),4)&" (Anmerkung / Begründung)",""),IF(OR(K14="",K14="bitte auswählen"),ADDRESS(ROW(),COLUMN(K14),4)&" (Anmerkungsart)","")))))}
B15: =$C$6 -> Organisation | C15: Prozessdokument | D15: bitte auswählen | E15: {=IF(OR(C15="",C15="bitte auswählen",D15="",D15="bitte auswählen"),"",IFERROR(IF(C15="Prozessdokument",_xlfn.XLOOKUP(TRIM(D15&""),Kapitel!$D$4:$D$169&"",Kapitel!$E$4:$E$169),_xlfn.XLOOKUP(TRIM(D15&""),Kapitel!$A$4:$A$128&"",Kapitel!$B$4:$B$128)),"-"))} | G15: bitte auswählen | K15: bitte auswählen | L15: {=IF(D15="allgemeine Anmerkung","-",IF(SUMPRODUCT(--(D15:K15<>""),--(D15:K15<>"bitte auswählen"))=0,"",IF(SUMPRODUCT(--(((B15:G15="")+(B15:G15="bitte auswählen"))>0))+SUMPRODUCT(--(((I15:K15="")+(I15:K15="bitte auswählen"))>0))=0,"-","!")))} | M15: {=IF(D15="allgemeine Anmerkung","",IF(L15="","",IF(SUMPRODUCT(--(((B15:G15="")+(B15:G15="bitte auswählen"))>0))+SUMPRODUCT(--(((I15:K15="")+(I15:K15="bitte auswählen"))>0))=0,"","Bitte alle Felder ausfüllen: "&_xlfn.TEXTJOIN(", ",TRUE,IF(OR(B15="",B15="bitte auswählen"),ADDRESS(ROW(),COLUMN(B15),4)&" (ID)",""),IF(OR(C15="",C15="bitte auswählen"),ADDRESS(ROW(),COLUMN(C15),4)&" (Bezugsdokument)",""),IF(OR(D15="",D15="bitte auswählen"),ADDRESS(ROW(),COLUMN(D15),4)&" (Kapitelnummer)",""),IF(OR(E15="",E15="bitte auswählen"),ADDRESS(ROW(),COLUMN(E15),4)&" (Kapiteltitel)",""),IF(OR(F15="",F15="bitte auswählen"),ADDRESS(ROW(),COLUMN(F15),4)&" (Zeilenbereich)",""),IF(OR(G15="",G15="bitte auswählen"),ADDRESS(ROW(),COLUMN(G15),4)&" (Bezugsebene)",""),IF(OR(I15="",I15="bitte auswählen"),ADDRESS(ROW(),COLUMN(I15),4)&" (Konkreter Änderungsvorschlag)",""),IF(OR(J15="",J15="bitte auswählen"),ADDRESS(ROW(),COLUMN(J15),4)&" (Anmerkung / Begründung)",""),IF(OR(K15="",K15="bitte auswählen"),ADDRESS(ROW(),COLUMN(K15),4)&" (Anmerkungsart)","")))))}
B16: =$C$6 -> Organisation | C16: Prozessdokument | D16: bitte auswählen | E16: {=IF(OR(C16="",C16="bitte auswählen",D16="",D16="bitte auswählen"),"",IFERROR(IF(C16="Prozessdokument",_xlfn.XLOOKUP(TRIM(D16&""),Kapitel!$D$4:$D$169&"",Kapitel!$E$4:$E$169),_xlfn.XLOOKUP(TRIM(D16&""),Kapitel!$A$4:$A$128&"",Kapitel!$B$4:$B$128)),"-"))} | G16: bitte auswählen | K16: bitte auswählen | L16: {=IF(D16="allgemeine Anmerkung","-",IF(SUMPRODUCT(--(D16:K16<>""),--(D16:K16<>"bitte auswählen"))=0,"",IF(SUMPRODUCT(--(((B16:G16="")+(B16:G16="bitte auswählen"))>0))+SUMPRODUCT(--(((I16:K16="")+(I16:K16="bitte auswählen"))>0))=0,"-","!")))} | M16: {=IF(D16="allgemeine Anmerkung","",IF(L16="","",IF(SUMPRODUCT(--(((B16:G16="")+(B16:G16="bitte auswählen"))>0))+SUMPRODUCT(--(((I16:K16="")+(I16:K16="bitte auswählen"))>0))=0,"","Bitte alle Felder ausfüllen: "&_xlfn.TEXTJOIN(", ",TRUE,IF(OR(B16="",B16="bitte auswählen"),ADDRESS(ROW(),COLUMN(B16),4)&" (ID)",""),IF(OR(C16="",C16="bitte auswählen"),ADDRESS(ROW(),COLUMN(C16),4)&" (Bezugsdokument)",""),IF(OR(D16="",D16="bitte auswählen"),ADDRESS(ROW(),COLUMN(D16),4)&" (Kapitelnummer)",""),IF(OR(E16="",E16="bitte auswählen"),ADDRESS(ROW(),COLUMN(E16),4)&" (Kapiteltitel)",""),IF(OR(F16="",F16="bitte auswählen"),ADDRESS(ROW(),COLUMN(F16),4)&" (Zeilenbereich)",""),IF(OR(G16="",G16="bitte auswählen"),ADDRESS(ROW(),COLUMN(G16),4)&" (Bezugsebene)",""),IF(OR(I16="",I16="bitte auswählen"),ADDRESS(ROW(),COLUMN(I16),4)&" (Konkreter Änderungsvorschlag)",""),IF(OR(J16="",J16="bitte auswählen"),ADDRESS(ROW(),COLUMN(J16),4)&" (Anmerkung / Begründung)",""),IF(OR(K16="",K16="bitte auswählen"),ADDRESS(ROW(),COLUMN(K16),4)&" (Anmerkungsart)","")))))}
B17: =$C$6 -> Organisation | C17: Prozessdokument | D17: bitte auswählen | E17: {=IF(OR(C17="",C17="bitte auswählen",D17="",D17="bitte auswählen"),"",IFERROR(IF(C17="Prozessdokument",_xlfn.XLOOKUP(TRIM(D17&""),Kapitel!$D$4:$D$169&"",Kapitel!$E$4:$E$169),_xlfn.XLOOKUP(TRIM(D17&""),Kapitel!$A$4:$A$128&"",Kapitel!$B$4:$B$128)),"-"))} | G17: bitte auswählen | K17: bitte auswählen | L17: {=IF(D17="allgemeine Anmerkung","-",IF(SUMPRODUCT(--(D17:K17<>""),--(D17:K17<>"bitte auswählen"))=0,"",IF(SUMPRODUCT(--(((B17:G17="")+(B17:G17="bitte auswählen"))>0))+SUMPRODUCT(--(((I17:K17="")+(I17:K17="bitte auswählen"))>0))=0,"-","!")))} | M17: {=IF(D17="allgemeine Anmerkung","",IF(L17="","",IF(SUMPRODUCT(--(((B17:G17="")+(B17:G17="bitte auswählen"))>0))+SUMPRODUCT(--(((I17:K17="")+(I17:K17="bitte auswählen"))>0))=0,"","Bitte alle Felder ausfüllen: "&_xlfn.TEXTJOIN(", ",TRUE,IF(OR(B17="",B17="bitte auswählen"),ADDRESS(ROW(),COLUMN(B17),4)&" (ID)",""),IF(OR(C17="",C17="bitte auswählen"),ADDRESS(ROW(),COLUMN(C17),4)&" (Bezugsdokument)",""),IF(OR(D17="",D17="bitte auswählen"),ADDRESS(ROW(),COLUMN(D17),4)&" (Kapitelnummer)",""),IF(OR(E17="",E17="bitte auswählen"),ADDRESS(ROW(),COLUMN(E17),4)&" (Kapiteltitel)",""),IF(OR(F17="",F17="bitte auswählen"),ADDRESS(ROW(),COLUMN(F17),4)&" (Zeilenbereich)",""),IF(OR(G17="",G17="bitte auswählen"),ADDRESS(ROW(),COLUMN(G17),4)&" (Bezugsebene)",""),IF(OR(I17="",I17="bitte auswählen"),ADDRESS(ROW(),COLUMN(I17),4)&" (Konkreter Änderungsvorschlag)",""),IF(OR(J17="",J17="bitte auswählen"),ADDRESS(ROW(),COLUMN(J17),4)&" (Anmerkung / Begründung)",""),IF(OR(K17="",K17="bitte auswählen"),ADDRESS(ROW(),COLUMN(K17),4)&" (Anmerkungsart)","")))))}
B18: =$C$6 -> Organisation | C18: Prozessdokument | D18: bitte auswählen | E18: {=IF(OR(C18="",C18="bitte auswählen",D18="",D18="bitte auswählen"),"",IFERROR(IF(C18="Prozessdokument",_xlfn.XLOOKUP(TRIM(D18&""),Kapitel!$D$4:$D$169&"",Kapitel!$E$4:$E$169),_xlfn.XLOOKUP(TRIM(D18&""),Kapitel!$A$4:$A$128&"",Kapitel!$B$4:$B$128)),"-"))} | G18: bitte auswählen | K18: bitte auswählen | L18: {=IF(D18="allgemeine Anmerkung","-",IF(SUMPRODUCT(--(D18:K18<>""),--(D18:K18<>"bitte auswählen"))=0,"",IF(SUMPRODUCT(--(((B18:G18="")+(B18:G18="bitte auswählen"))>0))+SUMPRODUCT(--(((I18:K18="")+(I18:K18="bitte auswählen"))>0))=0,"-","!")))} | M18: {=IF(D18="allgemeine Anmerkung","",IF(L18="","",IF(SUMPRODUCT(--(((B18:G18="")+(B18:G18="bitte auswählen"))>0))+SUMPRODUCT(--(((I18:K18="")+(I18:K18="bitte auswählen"))>0))=0,"","Bitte alle Felder ausfüllen: "&_xlfn.TEXTJOIN(", ",TRUE,IF(OR(B18="",B18="bitte auswählen"),ADDRESS(ROW(),COLUMN(B18),4)&" (ID)",""),IF(OR(C18="",C18="bitte auswählen"),ADDRESS(ROW(),COLUMN(C18),4)&" (Bezugsdokument)",""),IF(OR(D18="",D18="bitte auswählen"),ADDRESS(ROW(),COLUMN(D18),4)&" (Kapitelnummer)",""),IF(OR(E18="",E18="bitte auswählen"),ADDRESS(ROW(),COLUMN(E18),4)&" (Kapiteltitel)",""),IF(OR(F18="",F18="bitte auswählen"),ADDRESS(ROW(),COLUMN(F18),4)&" (Zeilenbereich)",""),IF(OR(G18="",G18="bitte auswählen"),ADDRESS(ROW(),COLUMN(G18),4)&" (Bezugsebene)",""),IF(OR(I18="",I18="bitte auswählen"),ADDRESS(ROW(),COLUMN(I18),4)&" (Konkreter Änderungsvorschlag)",""),IF(OR(J18="",J18="bitte auswählen"),ADDRESS(ROW(),COLUMN(J18),4)&" (Anmerkung / Begründung)",""),IF(OR(K18="",K18="bitte auswählen"),ADDRESS(ROW(),COLUMN(K18),4)&" (Anmerkungsart)","")))))}
B19: =$C$6 -> Organisation | C19: Prozessdokument | D19: bitte auswählen | E19: {=IF(OR(C19="",C19="bitte auswählen",D19="",D19="bitte auswählen"),"",IFERROR(IF(C19="Prozessdokument",_xlfn.XLOOKUP(TRIM(D19&""),Kapitel!$D$4:$D$169&"",Kapitel!$E$4:$E$169),_xlfn.XLOOKUP(TRIM(D19&""),Kapitel!$A$4:$A$128&"",Kapitel!$B$4:$B$128)),"-"))} | G19: bitte auswählen | K19: bitte auswählen | L19: {=IF(D19="allgemeine Anmerkung","-",IF(SUMPRODUCT(--(D19:K19<>""),--(D19:K19<>"bitte auswählen"))=0,"",IF(SUMPRODUCT(--(((B19:G19="")+(B19:G19="bitte auswählen"))>0))+SUMPRODUCT(--(((I19:K19="")+(I19:K19="bitte auswählen"))>0))=0,"-","!")))} | M19: {=IF(D19="allgemeine Anmerkung","",IF(L19="","",IF(SUMPRODUCT(--(((B19:G19="")+(B19:G19="bitte auswählen"))>0))+SUMPRODUCT(--(((I19:K19="")+(I19:K19="bitte auswählen"))>0))=0,"","Bitte alle Felder ausfüllen: "&_xlfn.TEXTJOIN(", ",TRUE,IF(OR(B19="",B19="bitte auswählen"),ADDRESS(ROW(),COLUMN(B19),4)&" (ID)",""),IF(OR(C19="",C19="bitte auswählen"),ADDRESS(ROW(),COLUMN(C19),4)&" (Bezugsdokument)",""),IF(OR(D19="",D19="bitte auswählen"),ADDRESS(ROW(),COLUMN(D19),4)&" (Kapitelnummer)",""),IF(OR(E19="",E19="bitte auswählen"),ADDRESS(ROW(),COLUMN(E19),4)&" (Kapiteltitel)",""),IF(OR(F19="",F19="bitte auswählen"),ADDRESS(ROW(),COLUMN(F19),4)&" (Zeilenbereich)",""),IF(OR(G19="",G19="bitte auswählen"),ADDRESS(ROW(),COLUMN(G19),4)&" (Bezugsebene)",""),IF(OR(I19="",I19="bitte auswählen"),ADDRESS(ROW(),COLUMN(I19),4)&" (Konkreter Änderungsvorschlag)",""),IF(OR(J19="",J19="bitte auswählen"),ADDRESS(ROW(),COLUMN(J19),4)&" (Anmerkung / Begründung)",""),IF(OR(K19="",K19="bitte auswählen"),ADDRESS(ROW(),COLUMN(K19),4)&" (Anmerkungsart)","")))))}
B20: =$C$6 -> Organisation | C20: Prozessdokument | D20: bitte auswählen | E20: {=IF(OR(C20="",C20="bitte auswählen",D20="",D20="bitte auswählen"),"",IFERROR(IF(C20="Prozessdokument",_xlfn.XLOOKUP(TRIM(D20&""),Kapitel!$D$4:$D$169&"",Kapitel!$E$4:$E$169),_xlfn.XLOOKUP(TRIM(D20&""),Kapitel!$A$4:$A$128&"",Kapitel!$B$4:$B$128)),"-"))} | G20: bitte auswählen | K20: bitte auswählen | L20: {=IF(D20="allgemeine Anmerkung","-",IF(SUMPRODUCT(--(D20:K20<>""),--(D20:K20<>"bitte auswählen"))=0,"",IF(SUMPRODUCT(--(((B20:G20="")+(B20:G20="bitte auswählen"))>0))+SUMPRODUCT(--(((I20:K20="")+(I20:K20="bitte auswählen"))>0))=0,"-","!")))} | M20: {=IF(D20="allgemeine Anmerkung","",IF(L20="","",IF(SUMPRODUCT(--(((B20:G20="")+(B20:G20="bitte auswählen"))>0))+SUMPRODUCT(--(((I20:K20="")+(I20:K20="bitte auswählen"))>0))=0,"","Bitte alle Felder ausfüllen: "&_xlfn.TEXTJOIN(", ",TRUE,IF(OR(B20="",B20="bitte auswählen"),ADDRESS(ROW(),COLUMN(B20),4)&" (ID)",""),IF(OR(C20="",C20="bitte auswählen"),ADDRESS(ROW(),COLUMN(C20),4)&" (Bezugsdokument)",""),IF(OR(D20="",D20="bitte auswählen"),ADDRESS(ROW(),COLUMN(D20),4)&" (Kapitelnummer)",""),IF(OR(E20="",E20="bitte auswählen"),ADDRESS(ROW(),COLUMN(E20),4)&" (Kapiteltitel)",""),IF(OR(F20="",F20="bitte auswählen"),ADDRESS(ROW(),COLUMN(F20),4)&" (Zeilenbereich)",""),IF(OR(G20="",G20="bitte auswählen"),ADDRESS(ROW(),COLUMN(G20),4)&" (Bezugsebene)",""),IF(OR(I20="",I20="bitte auswählen"),ADDRESS(ROW(),COLUMN(I20),4)&" (Konkreter Änderungsvorschlag)",""),IF(OR(J20="",J20="bitte auswählen"),ADDRESS(ROW(),COLUMN(J20),4)&" (Anmerkung / Begründung)",""),IF(OR(K20="",K20="bitte auswählen"),ADDRESS(ROW(),COLUMN(K20),4)&" (Anmerkungsart)","")))))}
B21: =$C$6 -> Organisation | C21: Prozessdokument | D21: bitte auswählen | E21: {=IF(OR(C21="",C21="bitte auswählen",D21="",D21="bitte auswählen"),"",IFERROR(IF(C21="Prozessdokument",_xlfn.XLOOKUP(TRIM(D21&""),Kapitel!$D$4:$D$169&"",Kapitel!$E$4:$E$169),_xlfn.XLOOKUP(TRIM(D21&""),Kapitel!$A$4:$A$128&"",Kapitel!$B$4:$B$128)),"-"))} | G21: bitte auswählen | K21: bitte auswählen | L21: {=IF(D21="allgemeine Anmerkung","-",IF(SUMPRODUCT(--(D21:K21<>""),--(D21:K21<>"bitte auswählen"))=0,"",IF(SUMPRODUCT(--(((B21:G21="")+(B21:G21="bitte auswählen"))>0))+SUMPRODUCT(--(((I21:K21="")+(I21:K21="bitte auswählen"))>0))=0,"-","!")))} | M21: {=IF(D21="allgemeine Anmerkung","",IF(L21="","",IF(SUMPRODUCT(--(((B21:G21="")+(B21:G21="bitte auswählen"))>0))+SUMPRODUCT(--(((I21:K21="")+(I21:K21="bitte auswählen"))>0))=0,"","Bitte alle Felder ausfüllen: "&_xlfn.TEXTJOIN(", ",TRUE,IF(OR(B21="",B21="bitte auswählen"),ADDRESS(ROW(),COLUMN(B21),4)&" (ID)",""),IF(OR(C21="",C21="bitte auswählen"),ADDRESS(ROW(),COLUMN(C21),4)&" (Bezugsdokument)",""),IF(OR(D21="",D21="bitte auswählen"),ADDRESS(ROW(),COLUMN(D21),4)&" (Kapitelnummer)",""),IF(OR(E21="",E21="bitte auswählen"),ADDRESS(ROW(),COLUMN(E21),4)&" (Kapiteltitel)",""),IF(OR(F21="",F21="bitte auswählen"),ADDRESS(ROW(),COLUMN(F21),4)&" (Zeilenbereich)",""),IF(OR(G21="",G21="bitte auswählen"),ADDRESS(ROW(),COLUMN(G21),4)&" (Bezugsebene)",""),IF(OR(I21="",I21="bitte auswählen"),ADDRESS(ROW(),COLUMN(I21),4)&" (Konkreter Änderungsvorschlag)",""),IF(OR(J21="",J21="bitte auswählen"),ADDRESS(ROW(),COLUMN(J21),4)&" (Anmerkung / Begründung)",""),IF(OR(K21="",K21="bitte auswählen"),ADDRESS(ROW(),COLUMN(K21),4)&" (Anmerkungsart)","")))))}
... B300: =$C$6 -> Organisation | C300: Prozessdokument | D300: bitte auswählen | E300: {=IF(OR(C300="",C300="bitte auswählen",D300="",D300="bitte auswählen"),"",IFERROR(IF(C300="Prozessdokument",_xlfn.XLOOKUP(TRIM(D300&""),Kapitel!$D$4:$D$169&"",Kapitel!$E$4:$E$169),_xlfn.XLOOKUP(TRIM(D300&""),Kapitel!$A$4:$A$128&"",Kapitel!$B$4:$B$128)),"-"))} | G300: bitte auswählen | K300: bitte auswählen | L300: {=IF(D300="allgemeine Anmerkung","-",IF(SUMPRODUCT(--(D300:K300<>""),--(D300:K300<>"bitte auswählen"))=0,"",IF(SUMPRODUCT(--(((B300:G300="")+(B300:G300="bitte auswählen"))>0))+SUMPRODUCT(--(((I300:K300="")+(I300:K300="bitte auswählen"))>0))=0,"-","!")))} | M300: {=IF(D300="allgemeine Anmerkung","",IF(L300="","",IF(SUMPRODUCT(--(((B300:G300="")+(B300:G300="bitte auswählen"))>0))+SUMPRODUCT(--(((I300:K300="")+(I300:K300="bitte auswählen"))>0))=0,"","Bitte alle Felder ausfüllen: "&_xlfn.TEXTJOIN(", ",TRUE,IF(OR(B300="",B300="bitte auswählen"),ADDRESS(ROW(),COLUMN(B300),4)&" (ID)",""),IF(OR(C300="",C300="bitte auswählen"),ADDRESS(ROW(),COLUMN(C300),4)&" (Bezugsdokument)",""),IF(OR(D300="",D300="bitte auswählen"),ADDRESS(ROW(),COLUMN(D300),4)&" (Kapitelnummer)",""),IF(OR(E300="",E300="bitte auswählen"),ADDRESS(ROW(),COLUMN(E300),4)&" (Kapiteltitel)",""),IF(OR(F300="",F300="bitte auswählen"),ADDRESS(ROW(),COLUMN(F300),4)&" (Zeilenbereich)",""),IF(OR(G300="",G300="bitte auswählen"),ADDRESS(ROW(),COLUMN(G300),4)&" (Bezugsebene)",""),IF(OR(I300="",I300="bitte auswählen"),ADDRESS(ROW(),COLUMN(I300),4)&" (Konkreter Änderungsvorschlag)",""),IF(OR(J300="",J300="bitte auswählen"),ADDRESS(ROW(),COLUMN(J300),4)&" (Anmerkung / Begründung)",""),IF(OR(K300="",K300="bitte auswählen"),ADDRESS(ROW(),COLUMN(K300),4)&" (Anmerkungsart)","")))))}

Sheet Stellungnahme | Prozessdokument
C4: Konsultation zu Fortentwicklung Redispatch 2.0
C5: Abgabe Stellungnahme zum Prozessdokument
C6: =IF('Eingabemaske | Informationen'!F13="", "Organisation",'Eingabemaske | Informationen'!F13) -> Organisation
K7: *Pflichtfeld
B9: ID | C9: Bezugs- dokument* | D9: Kapitelnummer* | E9: Kapiteltitel | F9: Zeilenbereich* | G9: Bezugsebene* | H9: Kopie Orginaltext (optional) | I9: Konkreter Änderungsvorschlag* | J9: Anmerkung / Begründung* | K9: Anmerkungsart* | L9: Vollständigkeit | M9: Fehlende Felder / Hinweis
B10: =$C$6 -> Organisation | C10: Prozessdokument | D10: bitte auswählen | E10: {=IF(OR(C10="",C10="bitte auswählen",D10="",D10="bitte auswählen"),"",IFERROR(IF(C10="Rahmendokument",_xlfn.XLOOKUP(TRIM(D10&""),Kapitel!$D$4:$D$229&"",Kapitel!$E$4:$E$229),_xlfn.XLOOKUP(TRIM(D10&""),Kapitel!$A$4:$A$229&"",Kapitel!$B$4:$B$229)),"-"))} | G10: bitte auswählen | K10: bitte auswählen | L10: {=IF(D10="allgemeine Anmerkung","-",IF(SUMPRODUCT(--(D10:K10<>""),--(D10:K10<>"bitte auswählen"))=0,"",IF(SUMPRODUCT(--(((B10:G10="")+(B10:G10="bitte auswählen"))>0))+SUMPRODUCT(--(((I10:K10="")+(I10:K10="bitte auswählen"))>0))=0,"-","!")))} | M10: {=IF(D10="allgemeine Anmerkung","",IF(L10="","",IF(SUMPRODUCT(--(((B10:G10="")+(B10:G10="bitte auswählen"))>0))+SUMPRODUCT(--(((I10:K10="")+(I10:K10="bitte auswählen"))>0))=0,"","Bitte alle Felder ausfüllen: "&_xlfn.TEXTJOIN(", ",TRUE,IF(OR(B10="",B10="bitte auswählen"),ADDRESS(ROW(),COLUMN(B10),4)&" (ID)",""),IF(OR(C10="",C10="bitte auswählen"),ADDRESS(ROW(),COLUMN(C10),4)&" (Bezugsdokument)",""),IF(OR(D10="",D10="bitte auswählen"),ADDRESS(ROW(),COLUMN(D10),4)&" (Kapitelnummer)",""),IF(OR(E10="",E10="bitte auswählen"),ADDRESS(ROW(),COLUMN(E10),4)&" (Kapiteltitel)",""),IF(OR(F10="",F10="bitte auswählen"),ADDRESS(ROW(),COLUMN(F10),4)&" (Zeilenbereich)",""),IF(OR(G10="",G10="bitte auswählen"),ADDRESS(ROW(),COLUMN(G10),4)&" (Bezugsebene)",""),IF(OR(I10="",I10="bitte auswählen"),ADDRESS(ROW(),COLUMN(I10),4)&" (Konkreter Änderungsvorschlag)",""),IF(OR(J10="",J10="bitte auswählen"),ADDRESS(ROW(),COLUMN(J10),4)&" (Anmerkung / Begründung)",""),IF(OR(K10="",K10="bitte auswählen"),ADDRESS(ROW(),COLUMN(K10),4)&" (Anmerkungsart)","")))))}
B11: =$C$6 -> Organisation | C11: Prozessdokument | D11: bitte auswählen | E11: {=IF(OR(C11="",C11="bitte auswählen",D11="",D11="bitte auswählen"),"",IFERROR(IF(C11="Rahmendokument",_xlfn.XLOOKUP(TRIM(D11&""),Kapitel!$D$4:$D$169&"",Kapitel!$E$4:$E$169),_xlfn.XLOOKUP(TRIM(D11&""),Kapitel!$A$4:$A$128&"",Kapitel!$B$4:$B$128)),"-"))} | G11: bitte auswählen | K11: bitte auswählen | L11: {=IF(D11="allgemeine Anmerkung","-",IF(SUMPRODUCT(--(D11:K11<>""),--(D11:K11<>"bitte auswählen"))=0,"",IF(SUMPRODUCT(--(((B11:G11="")+(B11:G11="bitte auswählen"))>0))+SUMPRODUCT(--(((I11:K11="")+(I11:K11="bitte auswählen"))>0))=0,"-","!")))} | M11: {=IF(D11="allgemeine Anmerkung","",IF(L11="","",IF(SUMPRODUCT(--(((B11:G11="")+(B11:G11="bitte auswählen"))>0))+SUMPRODUCT(--(((I11:K11="")+(I11:K11="bitte auswählen"))>0))=0,"","Bitte alle Felder ausfüllen: "&_xlfn.TEXTJOIN(", ",TRUE,IF(OR(B11="",B11="bitte auswählen"),ADDRESS(ROW(),COLUMN(B11),4)&" (ID)",""),IF(OR(C11="",C11="bitte auswählen"),ADDRESS(ROW(),COLUMN(C11),4)&" (Bezugsdokument)",""),IF(OR(D11="",D11="bitte auswählen"),ADDRESS(ROW(),COLUMN(D11),4)&" (Kapitelnummer)",""),IF(OR(E11="",E11="bitte auswählen"),ADDRESS(ROW(),COLUMN(E11),4)&" (Kapiteltitel)",""),IF(OR(F11="",F11="bitte auswählen"),ADDRESS(ROW(),COLUMN(F11),4)&" (Zeilenbereich)",""),IF(OR(G11="",G11="bitte auswählen"),ADDRESS(ROW(),COLUMN(G11),4)&" (Bezugsebene)",""),IF(OR(I11="",I11="bitte auswählen"),ADDRESS(ROW(),COLUMN(I11),4)&" (Konkreter Änderungsvorschlag)",""),IF(OR(J11="",J11="bitte auswählen"),ADDRESS(ROW(),COLUMN(J11),4)&" (Anmerkung / Begründung)",""),IF(OR(K11="",K11="bitte auswählen"),ADDRESS(ROW(),COLUMN(K11),4)&" (Anmerkungsart)","")))))}
B12: =$C$6 -> Organisation | C12: Prozessdokument | D12: bitte auswählen | E12: {=IF(OR(C12="",C12="bitte auswählen",D12="",D12="bitte auswählen"),"",IFERROR(IF(C12="Rahmendokument",_xlfn.XLOOKUP(TRIM(D12&""),Kapitel!$D$4:$D$169&"",Kapitel!$E$4:$E$169),_xlfn.XLOOKUP(TRIM(D12&""),Kapitel!$A$4:$A$128&"",Kapitel!$B$4:$B$128)),"-"))} | G12: bitte auswählen | K12: bitte auswählen | L12: {=IF(D12="allgemeine Anmerkung","-",IF(SUMPRODUCT(--(D12:K12<>""),--(D12:K12<>"bitte auswählen"))=0,"",IF(SUMPRODUCT(--(((B12:G12="")+(B12:G12="bitte auswählen"))>0))+SUMPRODUCT(--(((I12:K12="")+(I12:K12="bitte auswählen"))>0))=0,"-","!")))} | M12: {=IF(D12="allgemeine Anmerkung","",IF(L12="","",IF(SUMPRODUCT(--(((B12:G12="")+(B12:G12="bitte auswählen"))>0))+SUMPRODUCT(--(((I12:K12="")+(I12:K12="bitte auswählen"))>0))=0,"","Bitte alle Felder ausfüllen: "&_xlfn.TEXTJOIN(", ",TRUE,IF(OR(B12="",B12="bitte auswählen"),ADDRESS(ROW(),COLUMN(B12),4)&" (ID)",""),IF(OR(C12="",C12="bitte auswählen"),ADDRESS(ROW(),COLUMN(C12),4)&" (Bezugsdokument)",""),IF(OR(D12="",D12="bitte auswählen"),ADDRESS(ROW(),COLUMN(D12),4)&" (Kapitelnummer)",""),IF(OR(E12="",E12="bitte auswählen"),ADDRESS(ROW(),COLUMN(E12),4)&" (Kapiteltitel)",""),IF(OR(F12="",F12="bitte auswählen"),ADDRESS(ROW(),COLUMN(F12),4)&" (Zeilenbereich)",""),IF(OR(G12="",G12="bitte auswählen"),ADDRESS(ROW(),COLUMN(G12),4)&" (Bezugsebene)",""),IF(OR(I12="",I12="bitte auswählen"),ADDRESS(ROW(),COLUMN(I12),4)&" (Konkreter Änderungsvorschlag)",""),IF(OR(J12="",J12="bitte auswählen"),ADDRESS(ROW(),COLUMN(J12),4)&" (Anmerkung / Begründung)",""),IF(OR(K12="",K12="bitte auswählen"),ADDRESS(ROW(),COLUMN(K12),4)&" (Anmerkungsart)","")))))}
B13: =$C$6 -> Organisation | C13: Prozessdokument | D13: bitte auswählen | E13: {=IF(OR(C13="",C13="bitte auswählen",D13="",D13="bitte auswählen"),"",IFERROR(IF(C13="Rahmendokument",_xlfn.XLOOKUP(TRIM(D13&""),Kapitel!$D$4:$D$169&"",Kapitel!$E$4:$E$169),_xlfn.XLOOKUP(TRIM(D13&""),Kapitel!$A$4:$A$128&"",Kapitel!$B$4:$B$128)),"-"))} | G13: bitte auswählen | K13: bitte auswählen | L13: {=IF(D13="allgemeine Anmerkung","-",IF(SUMPRODUCT(--(D13:K13<>""),--(D13:K13<>"bitte auswählen"))=0,"",IF(SUMPRODUCT(--(((B13:G13="")+(B13:G13="bitte auswählen"))>0))+SUMPRODUCT(--(((I13:K13="")+(I13:K13="bitte auswählen"))>0))=0,"-","!")))} | M13: {=IF(D13="allgemeine Anmerkung","",IF(L13="","",IF(SUMPRODUCT(--(((B13:G13="")+(B13:G13="bitte auswählen"))>0))+SUMPRODUCT(--(((I13:K13="")+(I13:K13="bitte auswählen"))>0))=0,"","Bitte alle Felder ausfüllen: "&_xlfn.TEXTJOIN(", ",TRUE,IF(OR(B13="",B13="bitte auswählen"),ADDRESS(ROW(),COLUMN(B13),4)&" (ID)",""),IF(OR(C13="",C13="bitte auswählen"),ADDRESS(ROW(),COLUMN(C13),4)&" (Bezugsdokument)",""),IF(OR(D13="",D13="bitte auswählen"),ADDRESS(ROW(),COLUMN(D13),4)&" (Kapitelnummer)",""),IF(OR(E13="",E13="bitte auswählen"),ADDRESS(ROW(),COLUMN(E13),4)&" (Kapiteltitel)",""),IF(OR(F13="",F13="bitte auswählen"),ADDRESS(ROW(),COLUMN(F13),4)&" (Zeilenbereich)",""),IF(OR(G13="",G13="bitte auswählen"),ADDRESS(ROW(),COLUMN(G13),4)&" (Bezugsebene)",""),IF(OR(I13="",I13="bitte auswählen"),ADDRESS(ROW(),COLUMN(I13),4)&" (Konkreter Änderungsvorschlag)",""),IF(OR(J13="",J13="bitte auswählen"),ADDRESS(ROW(),COLUMN(J13),4)&" (Anmerkung / Begründung)",""),IF(OR(K13="",K13="bitte auswählen"),ADDRESS(ROW(),COLUMN(K13),4)&" (Anmerkungsart)","")))))}
B14: =$C$6 -> Organisation | C14: Prozessdokument | D14: bitte auswählen | E14: {=IF(OR(C14="",C14="bitte auswählen",D14="",D14="bitte auswählen"),"",IFERROR(IF(C14="Rahmendokument",_xlfn.XLOOKUP(TRIM(D14&""),Kapitel!$D$4:$D$169&"",Kapitel!$E$4:$E$169),_xlfn.XLOOKUP(TRIM(D14&""),Kapitel!$A$4:$A$128&"",Kapitel!$B$4:$B$128)),"-"))} | G14: bitte auswählen | K14: bitte auswählen | L14: {=IF(D14="allgemeine Anmerkung","-",IF(SUMPRODUCT(--(D14:K14<>""),--(D14:K14<>"bitte auswählen"))=0,"",IF(SUMPRODUCT(--(((B14:G14="")+(B14:G14="bitte auswählen"))>0))+SUMPRODUCT(--(((I14:K14="")+(I14:K14="bitte auswählen"))>0))=0,"-","!")))} | M14: {=IF(D14="allgemeine Anmerkung","",IF(L14="","",IF(SUMPRODUCT(--(((B14:G14="")+(B14:G14="bitte auswählen"))>0))+SUMPRODUCT(--(((I14:K14="")+(I14:K14="bitte auswählen"))>0))=0,"","Bitte alle Felder ausfüllen: "&_xlfn.TEXTJOIN(", ",TRUE,IF(OR(B14="",B14="bitte auswählen"),ADDRESS(ROW(),COLUMN(B14),4)&" (ID)",""),IF(OR(C14="",C14="bitte auswählen"),ADDRESS(ROW(),COLUMN(C14),4)&" (Bezugsdokument)",""),IF(OR(D14="",D14="bitte auswählen"),ADDRESS(ROW(),COLUMN(D14),4)&" (Kapitelnummer)",""),IF(OR(E14="",E14="bitte auswählen"),ADDRESS(ROW(),COLUMN(E14),4)&" (Kapiteltitel)",""),IF(OR(F14="",F14="bitte auswählen"),ADDRESS(ROW(),COLUMN(F14),4)&" (Zeilenbereich)",""),IF(OR(G14="",G14="bitte auswählen"),ADDRESS(ROW(),COLUMN(G14),4)&" (Bezugsebene)",""),IF(OR(I14="",I14="bitte auswählen"),ADDRESS(ROW(),COLUMN(I14),4)&" (Konkreter Änderungsvorschlag)",""),IF(OR(J14="",J14="bitte auswählen"),ADDRESS(ROW(),COLUMN(J14),4)&" (Anmerkung / Begründung)",""),IF(OR(K14="",K14="bitte auswählen"),ADDRESS(ROW(),COLUMN(K14),4)&" (Anmerkungsart)","")))))}
B15: =$C$6 -> Organisation | C15: Prozessdokument | D15: bitte auswählen | E15: {=IF(OR(C15="",C15="bitte auswählen",D15="",D15="bitte auswählen"),"",IFERROR(IF(C15="Rahmendokument",_xlfn.XLOOKUP(TRIM(D15&""),Kapitel!$D$4:$D$169&"",Kapitel!$E$4:$E$169),_xlfn.XLOOKUP(TRIM(D15&""),Kapitel!$A$4:$A$128&"",Kapitel!$B$4:$B$128)),"-"))} | G15: bitte auswählen | K15: bitte auswählen | L15: {=IF(D15="allgemeine Anmerkung","-",IF(SUMPRODUCT(--(D15:K15<>""),--(D15:K15<>"bitte auswählen"))=0,"",IF(SUMPRODUCT(--(((B15:G15="")+(B15:G15="bitte auswählen"))>0))+SUMPRODUCT(--(((I15:K15="")+(I15:K15="bitte auswählen"))>0))=0,"-","!")))} | M15: {=IF(D15="allgemeine Anmerkung","",IF(L15="","",IF(SUMPRODUCT(--(((B15:G15="")+(B15:G15="bitte auswählen"))>0))+SUMPRODUCT(--(((I15:K15="")+(I15:K15="bitte auswählen"))>0))=0,"","Bitte alle Felder ausfüllen: "&_xlfn.TEXTJOIN(", ",TRUE,IF(OR(B15="",B15="bitte auswählen"),ADDRESS(ROW(),COLUMN(B15),4)&" (ID)",""),IF(OR(C15="",C15="bitte auswählen"),ADDRESS(ROW(),COLUMN(C15),4)&" (Bezugsdokument)",""),IF(OR(D15="",D15="bitte auswählen"),ADDRESS(ROW(),COLUMN(D15),4)&" (Kapitelnummer)",""),IF(OR(E15="",E15="bitte auswählen"),ADDRESS(ROW(),COLUMN(E15),4)&" (Kapiteltitel)",""),IF(OR(F15="",F15="bitte auswählen"),ADDRESS(ROW(),COLUMN(F15),4)&" (Zeilenbereich)",""),IF(OR(G15="",G15="bitte auswählen"),ADDRESS(ROW(),COLUMN(G15),4)&" (Bezugsebene)",""),IF(OR(I15="",I15="bitte auswählen"),ADDRESS(ROW(),COLUMN(I15),4)&" (Konkreter Änderungsvorschlag)",""),IF(OR(J15="",J15="bitte auswählen"),ADDRESS(ROW(),COLUMN(J15),4)&" (Anmerkung / Begründung)",""),IF(OR(K15="",K15="bitte auswählen"),ADDRESS(ROW(),COLUMN(K15),4)&" (Anmerkungsart)","")))))}
B16: =$C$6 -> Organisation | C16: Prozessdokument | D16: bitte auswählen | E16: {=IF(OR(C16="",C16="bitte auswählen",D16="",D16="bitte auswählen"),"",IFERROR(IF(C16="Rahmendokument",_xlfn.XLOOKUP(TRIM(D16&""),Kapitel!$D$4:$D$169&"",Kapitel!$E$4:$E$169),_xlfn.XLOOKUP(TRIM(D16&""),Kapitel!$A$4:$A$128&"",Kapitel!$B$4:$B$128)),"-"))} | G16: bitte auswählen | K16: bitte auswählen | L16: {=IF(D16="allgemeine Anmerkung","-",IF(SUMPRODUCT(--(D16:K16<>""),--(D16:K16<>"bitte auswählen"))=0,"",IF(SUMPRODUCT(--(((B16:G16="")+(B16:G16="bitte auswählen"))>0))+SUMPRODUCT(--(((I16:K16="")+(I16:K16="bitte auswählen"))>0))=0,"-","!")))} | M16: {=IF(D16="allgemeine Anmerkung","",IF(L16="","",IF(SUMPRODUCT(--(((B16:G16="")+(B16:G16="bitte auswählen"))>0))+SUMPRODUCT(--(((I16:K16="")+(I16:K16="bitte auswählen"))>0))=0,"","Bitte alle Felder ausfüllen: "&_xlfn.TEXTJOIN(", ",TRUE,IF(OR(B16="",B16="bitte auswählen"),ADDRESS(ROW(),COLUMN(B16),4)&" (ID)",""),IF(OR(C16="",C16="bitte auswählen"),ADDRESS(ROW(),COLUMN(C16),4)&" (Bezugsdokument)",""),IF(OR(D16="",D16="bitte auswählen"),ADDRESS(ROW(),COLUMN(D16),4)&" (Kapitelnummer)",""),IF(OR(E16="",E16="bitte auswählen"),ADDRESS(ROW(),COLUMN(E16),4)&" (Kapiteltitel)",""),IF(OR(F16="",F16="bitte auswählen"),ADDRESS(ROW(),COLUMN(F16),4)&" (Zeilenbereich)",""),IF(OR(G16="",G16="bitte auswählen"),ADDRESS(ROW(),COLUMN(G16),4)&" (Bezugsebene)",""),IF(OR(I16="",I16="bitte auswählen"),ADDRESS(ROW(),COLUMN(I16),4)&" (Konkreter Änderungsvorschlag)",""),IF(OR(J16="",J16="bitte auswählen"),ADDRESS(ROW(),COLUMN(J16),4)&" (Anmerkung / Begründung)",""),IF(OR(K16="",K16="bitte auswählen"),ADDRESS(ROW(),COLUMN(K16),4)&" (Anmerkungsart)","")))))}
B17: =$C$6 -> Organisation | C17: Prozessdokument | D17: bitte auswählen | E17: {=IF(OR(C17="",C17="bitte auswählen",D17="",D17="bitte auswählen"),"",IFERROR(IF(C17="Rahmendokument",_xlfn.XLOOKUP(TRIM(D17&""),Kapitel!$D$4:$D$169&"",Kapitel!$E$4:$E$169),_xlfn.XLOOKUP(TRIM(D17&""),Kapitel!$A$4:$A$128&"",Kapitel!$B$4:$B$128)),"-"))} | G17: bitte auswählen | K17: bitte auswählen | L17: {=IF(D17="allgemeine Anmerkung","-",IF(SUMPRODUCT(--(D17:K17<>""),--(D17:K17<>"bitte auswählen"))=0,"",IF(SUMPRODUCT(--(((B17:G17="")+(B17:G17="bitte auswählen"))>0))+SUMPRODUCT(--(((I17:K17="")+(I17:K17="bitte auswählen"))>0))=0,"-","!")))} | M17: {=IF(D17="allgemeine Anmerkung","",IF(L17="","",IF(SUMPRODUCT(--(((B17:G17="")+(B17:G17="bitte auswählen"))>0))+SUMPRODUCT(--(((I17:K17="")+(I17:K17="bitte auswählen"))>0))=0,"","Bitte alle Felder ausfüllen: "&_xlfn.TEXTJOIN(", ",TRUE,IF(OR(B17="",B17="bitte auswählen"),ADDRESS(ROW(),COLUMN(B17),4)&" (ID)",""),IF(OR(C17="",C17="bitte auswählen"),ADDRESS(ROW(),COLUMN(C17),4)&" (Bezugsdokument)",""),IF(OR(D17="",D17="bitte auswählen"),ADDRESS(ROW(),COLUMN(D17),4)&" (Kapitelnummer)",""),IF(OR(E17="",E17="bitte auswählen"),ADDRESS(ROW(),COLUMN(E17),4)&" (Kapiteltitel)",""),IF(OR(F17="",F17="bitte auswählen"),ADDRESS(ROW(),COLUMN(F17),4)&" (Zeilenbereich)",""),IF(OR(G17="",G17="bitte auswählen"),ADDRESS(ROW(),COLUMN(G17),4)&" (Bezugsebene)",""),IF(OR(I17="",I17="bitte auswählen"),ADDRESS(ROW(),COLUMN(I17),4)&" (Konkreter Änderungsvorschlag)",""),IF(OR(J17="",J17="bitte auswählen"),ADDRESS(ROW(),COLUMN(J17),4)&" (Anmerkung / Begründung)",""),IF(OR(K17="",K17="bitte auswählen"),ADDRESS(ROW(),COLUMN(K17),4)&" (Anmerkungsart)","")))))}
B18: =$C$6 -> Organisation | C18: Prozessdokument | D18: bitte auswählen | E18: {=IF(OR(C18="",C18="bitte auswählen",D18="",D18="bitte auswählen"),"",IFERROR(IF(C18="Rahmendokument",_xlfn.XLOOKUP(TRIM(D18&""),Kapitel!$D$4:$D$169&"",Kapitel!$E$4:$E$169),_xlfn.XLOOKUP(TRIM(D18&""),Kapitel!$A$4:$A$128&"",Kapitel!$B$4:$B$128)),"-"))} | G18: bitte auswählen | K18: bitte auswählen | L18: {=IF(D18="allgemeine Anmerkung","-",IF(SUMPRODUCT(--(D18:K18<>""),--(D18:K18<>"bitte auswählen"))=0,"",IF(SUMPRODUCT(--(((B18:G18="")+(B18:G18="bitte auswählen"))>0))+SUMPRODUCT(--(((I18:K18="")+(I18:K18="bitte auswählen"))>0))=0,"-","!")))} | M18: {=IF(D18="allgemeine Anmerkung","",IF(L18="","",IF(SUMPRODUCT(--(((B18:G18="")+(B18:G18="bitte auswählen"))>0))+SUMPRODUCT(--(((I18:K18="")+(I18:K18="bitte auswählen"))>0))=0,"","Bitte alle Felder ausfüllen: "&_xlfn.TEXTJOIN(", ",TRUE,IF(OR(B18="",B18="bitte auswählen"),ADDRESS(ROW(),COLUMN(B18),4)&" (ID)",""),IF(OR(C18="",C18="bitte auswählen"),ADDRESS(ROW(),COLUMN(C18),4)&" (Bezugsdokument)",""),IF(OR(D18="",D18="bitte auswählen"),ADDRESS(ROW(),COLUMN(D18),4)&" (Kapitelnummer)",""),IF(OR(E18="",E18="bitte auswählen"),ADDRESS(ROW(),COLUMN(E18),4)&" (Kapiteltitel)",""),IF(OR(F18="",F18="bitte auswählen"),ADDRESS(ROW(),COLUMN(F18),4)&" (Zeilenbereich)",""),IF(OR(G18="",G18="bitte auswählen"),ADDRESS(ROW(),COLUMN(G18),4)&" (Bezugsebene)",""),IF(OR(I18="",I18="bitte auswählen"),ADDRESS(ROW(),COLUMN(I18),4)&" (Konkreter Änderungsvorschlag)",""),IF(OR(J18="",J18="bitte auswählen"),ADDRESS(ROW(),COLUMN(J18),4)&" (Anmerkung / Begründung)",""),IF(OR(K18="",K18="bitte auswählen"),ADDRESS(ROW(),COLUMN(K18),4)&" (Anmerkungsart)","")))))}
B19: =$C$6 -> Organisation | C19: Prozessdokument | D19: bitte auswählen | E19: {=IF(OR(C19="",C19="bitte auswählen",D19="",D19="bitte auswählen"),"",IFERROR(IF(C19="Rahmendokument",_xlfn.XLOOKUP(TRIM(D19&""),Kapitel!$D$4:$D$169&"",Kapitel!$E$4:$E$169),_xlfn.XLOOKUP(TRIM(D19&""),Kapitel!$A$4:$A$128&"",Kapitel!$B$4:$B$128)),"-"))} | G19: bitte auswählen | K19: bitte auswählen | L19: {=IF(D19="allgemeine Anmerkung","-",IF(SUMPRODUCT(--(D19:K19<>""),--(D19:K19<>"bitte auswählen"))=0,"",IF(SUMPRODUCT(--(((B19:G19="")+(B19:G19="bitte auswählen"))>0))+SUMPRODUCT(--(((I19:K19="")+(I19:K19="bitte auswählen"))>0))=0,"-","!")))} | M19: {=IF(D19="allgemeine Anmerkung","",IF(L19="","",IF(SUMPRODUCT(--(((B19:G19="")+(B19:G19="bitte auswählen"))>0))+SUMPRODUCT(--(((I19:K19="")+(I19:K19="bitte auswählen"))>0))=0,"","Bitte alle Felder ausfüllen: "&_xlfn.TEXTJOIN(", ",TRUE,IF(OR(B19="",B19="bitte auswählen"),ADDRESS(ROW(),COLUMN(B19),4)&" (ID)",""),IF(OR(C19="",C19="bitte auswählen"),ADDRESS(ROW(),COLUMN(C19),4)&" (Bezugsdokument)",""),IF(OR(D19="",D19="bitte auswählen"),ADDRESS(ROW(),COLUMN(D19),4)&" (Kapitelnummer)",""),IF(OR(E19="",E19="bitte auswählen"),ADDRESS(ROW(),COLUMN(E19),4)&" (Kapiteltitel)",""),IF(OR(F19="",F19="bitte auswählen"),ADDRESS(ROW(),COLUMN(F19),4)&" (Zeilenbereich)",""),IF(OR(G19="",G19="bitte auswählen"),ADDRESS(ROW(),COLUMN(G19),4)&" (Bezugsebene)",""),IF(OR(I19="",I19="bitte auswählen"),ADDRESS(ROW(),COLUMN(I19),4)&" (Konkreter Änderungsvorschlag)",""),IF(OR(J19="",J19="bitte auswählen"),ADDRESS(ROW(),COLUMN(J19),4)&" (Anmerkung / Begründung)",""),IF(OR(K19="",K19="bitte auswählen"),ADDRESS(ROW(),COLUMN(K19),4)&" (Anmerkungsart)","")))))}
B20: =$C$6 -> Organisation | C20: Prozessdokument | D20: bitte auswählen | E20: {=IF(OR(C20="",C20="bitte auswählen",D20="",D20="bitte auswählen"),"",IFERROR(IF(C20="Rahmendokument",_xlfn.XLOOKUP(TRIM(D20&""),Kapitel!$D$4:$D$169&"",Kapitel!$E$4:$E$169),_xlfn.XLOOKUP(TRIM(D20&""),Kapitel!$A$4:$A$128&"",Kapitel!$B$4:$B$128)),"-"))} | G20: bitte auswählen | K20: bitte auswählen | L20: {=IF(D20="allgemeine Anmerkung","-",IF(SUMPRODUCT(--(D20:K20<>""),--(D20:K20<>"bitte auswählen"))=0,"",IF(SUMPRODUCT(--(((B20:G20="")+(B20:G20="bitte auswählen"))>0))+SUMPRODUCT(--(((I20:K20="")+(I20:K20="bitte auswählen"))>0))=0,"-","!")))} | M20: {=IF(D20="allgemeine Anmerkung","",IF(L20="","",IF(SUMPRODUCT(--(((B20:G20="")+(B20:G20="bitte auswählen"))>0))+SUMPRODUCT(--(((I20:K20="")+(I20:K20="bitte auswählen"))>0))=0,"","Bitte alle Felder ausfüllen: "&_xlfn.TEXTJOIN(", ",TRUE,IF(OR(B20="",B20="bitte auswählen"),ADDRESS(ROW(),COLUMN(B20),4)&" (ID)",""),IF(OR(C20="",C20="bitte auswählen"),ADDRESS(ROW(),COLUMN(C20),4)&" (Bezugsdokument)",""),IF(OR(D20="",D20="bitte auswählen"),ADDRESS(ROW(),COLUMN(D20),4)&" (Kapitelnummer)",""),IF(OR(E20="",E20="bitte auswählen"),ADDRESS(ROW(),COLUMN(E20),4)&" (Kapiteltitel)",""),IF(OR(F20="",F20="bitte auswählen"),ADDRESS(ROW(),COLUMN(F20),4)&" (Zeilenbereich)",""),IF(OR(G20="",G20="bitte auswählen"),ADDRESS(ROW(),COLUMN(G20),4)&" (Bezugsebene)",""),IF(OR(I20="",I20="bitte auswählen"),ADDRESS(ROW(),COLUMN(I20),4)&" (Konkreter Änderungsvorschlag)",""),IF(OR(J20="",J20="bitte auswählen"),ADDRESS(ROW(),COLUMN(J20),4)&" (Anmerkung / Begründung)",""),IF(OR(K20="",K20="bitte auswählen"),ADDRESS(ROW(),COLUMN(K20),4)&" (Anmerkungsart)","")))))}
B21: =$C$6 -> Organisation | C21: Prozessdokument | D21: bitte auswählen | E21: {=IF(OR(C21="",C21="bitte auswählen",D21="",D21="bitte auswählen"),"",IFERROR(IF(C21="Rahmendokument",_xlfn.XLOOKUP(TRIM(D21&""),Kapitel!$D$4:$D$169&"",Kapitel!$E$4:$E$169),_xlfn.XLOOKUP(TRIM(D21&""),Kapitel!$A$4:$A$128&"",Kapitel!$B$4:$B$128)),"-"))} | G21: bitte auswählen | K21: bitte auswählen | L21: {=IF(D21="allgemeine Anmerkung","-",IF(SUMPRODUCT(--(D21:K21<>""),--(D21:K21<>"bitte auswählen"))=0,"",IF(SUMPRODUCT(--(((B21:G21="")+(B21:G21="bitte auswählen"))>0))+SUMPRODUCT(--(((I21:K21="")+(I21:K21="bitte auswählen"))>0))=0,"-","!")))} | M21: {=IF(D21="allgemeine Anmerkung","",IF(L21="","",IF(SUMPRODUCT(--(((B21:G21="")+(B21:G21="bitte auswählen"))>0))+SUMPRODUCT(--(((I21:K21="")+(I21:K21="bitte auswählen"))>0))=0,"","Bitte alle Felder ausfüllen: "&_xlfn.TEXTJOIN(", ",TRUE,IF(OR(B21="",B21="bitte auswählen"),ADDRESS(ROW(),COLUMN(B21),4)&" (ID)",""),IF(OR(C21="",C21="bitte auswählen"),ADDRESS(ROW(),COLUMN(C21),4)&" (Bezugsdokument)",""),IF(OR(D21="",D21="bitte auswählen"),ADDRESS(ROW(),COLUMN(D21),4)&" (Kapitelnummer)",""),IF(OR(E21="",E21="bitte auswählen"),ADDRESS(ROW(),COLUMN(E21),4)&" (Kapiteltitel)",""),IF(OR(F21="",F21="bitte auswählen"),ADDRESS(ROW(),COLUMN(F21),4)&" (Zeilenbereich)",""),IF(OR(G21="",G21="bitte auswählen"),ADDRESS(ROW(),COLUMN(G21),4)&" (Bezugsebene)",""),IF(OR(I21="",I21="bitte auswählen"),ADDRESS(ROW(),COLUMN(I21),4)&" (Konkreter Änderungsvorschlag)",""),IF(OR(J21="",J21="bitte auswählen"),ADDRESS(ROW(),COLUMN(J21),4)&" (Anmerkung / Begründung)",""),IF(OR(K21="",K21="bitte auswählen"),ADDRESS(ROW(),COLUMN(K21),4)&" (Anmerkungsart)","")))))}
B22: =$C$6 -> Organisation | C22: Prozessdokument | D22: bitte auswählen | E22: {=IF(OR(C22="",C22="bitte auswählen",D22="",D22="bitte auswählen"),"",IFERROR(IF(C22="Rahmendokument",_xlfn.XLOOKUP(TRIM(D22&""),Kapitel!$D$4:$D$169&"",Kapitel!$E$4:$E$169),_xlfn.XLOOKUP(TRIM(D22&""),Kapitel!$A$4:$A$128&"",Kapitel!$B$4:$B$128)),"-"))} | G22: bitte auswählen | K22: bitte auswählen | L22: {=IF(D22="allgemeine Anmerkung","-",IF(SUMPRODUCT(--(D22:K22<>""),--(D22:K22<>"bitte auswählen"))=0,"",IF(SUMPRODUCT(--(((B22:G22="")+(B22:G22="bitte auswählen"))>0))+SUMPRODUCT(--(((I22:K22="")+(I22:K22="bitte auswählen"))>0))=0,"-","!")))} | M22: {=IF(D22="allgemeine Anmerkung","",IF(L22="","",IF(SUMPRODUCT(--(((B22:G22="")+(B22:G22="bitte auswählen"))>0))+SUMPRODUCT(--(((I22:K22="")+(I22:K22="bitte auswählen"))>0))=0,"","Bitte alle Felder ausfüllen: "&_xlfn.TEXTJOIN(", ",TRUE,IF(OR(B22="",B22="bitte auswählen"),ADDRESS(ROW(),COLUMN(B22),4)&" (ID)",""),IF(OR(C22="",C22="bitte auswählen"),ADDRESS(ROW(),COLUMN(C22),4)&" (Bezugsdokument)",""),IF(OR(D22="",D22="bitte auswählen"),ADDRESS(ROW(),COLUMN(D22),4)&" (Kapitelnummer)",""),IF(OR(E22="",E22="bitte auswählen"),ADDRESS(ROW(),COLUMN(E22),4)&" (Kapiteltitel)",""),IF(OR(F22="",F22="bitte auswählen"),ADDRESS(ROW(),COLUMN(F22),4)&" (Zeilenbereich)",""),IF(OR(G22="",G22="bitte auswählen"),ADDRESS(ROW(),COLUMN(G22),4)&" (Bezugsebene)",""),IF(OR(I22="",I22="bitte auswählen"),ADDRESS(ROW(),COLUMN(I22),4)&" (Konkreter Änderungsvorschlag)",""),IF(OR(J22="",J22="bitte auswählen"),ADDRESS(ROW(),COLUMN(J22),4)&" (Anmerkung / Begründung)",""),IF(OR(K22="",K22="bitte auswählen"),ADDRESS(ROW(),COLUMN(K22),4)&" (Anmerkungsart)","")))))}
... B299: =$C$6 -> Organisation | C299: Prozessdokument | D299: bitte auswählen | E299: {=IF(OR(C299="",C299="bitte auswählen",D299="",D299="bitte auswählen"),"",IFERROR(IF(C299="Rahmendokument",_xlfn.XLOOKUP(TRIM(D299&""),Kapitel!$D$4:$D$169&"",Kapitel!$E$4:$E$169),_xlfn.XLOOKUP(TRIM(D299&""),Kapitel!$A$4:$A$128&"",Kapitel!$B$4:$B$128)),"-"))} | G299: bitte auswählen | K299: bitte auswählen | L299: {=IF(D299="allgemeine Anmerkung","-",IF(SUMPRODUCT(--(D299:K299<>""),--(D299:K299<>"bitte auswählen"))=0,"",IF(SUMPRODUCT(--(((B299:G299="")+(B299:G299="bitte auswählen"))>0))+SUMPRODUCT(--(((I299:K299="")+(I299:K299="bitte auswählen"))>0))=0,"-","!")))} | M299: {=IF(D299="allgemeine Anmerkung","",IF(L299="","",IF(SUMPRODUCT(--(((B299:G299="")+(B299:G299="bitte auswählen"))>0))+SUMPRODUCT(--(((I299:K299="")+(I299:K299="bitte auswählen"))>0))=0,"","Bitte alle Felder ausfüllen: "&_xlfn.TEXTJOIN(", ",TRUE,IF(OR(B299="",B299="bitte auswählen"),ADDRESS(ROW(),COLUMN(B299),4)&" (ID)",""),IF(OR(C299="",C299="bitte auswählen"),ADDRESS(ROW(),COLUMN(C299),4)&" (Bezugsdokument)",""),IF(OR(D299="",D299="bitte auswählen"),ADDRESS(ROW(),COLUMN(D299),4)&" (Kapitelnummer)",""),IF(OR(E299="",E299="bitte auswählen"),ADDRESS(ROW(),COLUMN(E299),4)&" (Kapiteltitel)",""),IF(OR(F299="",F299="bitte auswählen"),ADDRESS(ROW(),COLUMN(F299),4)&" (Zeilenbereich)",""),IF(OR(G299="",G299="bitte auswählen"),ADDRESS(ROW(),COLUMN(G299),4)&" (Bezugsebene)",""),IF(OR(I299="",I299="bitte auswählen"),ADDRESS(ROW(),COLUMN(I299),4)&" (Konkreter Änderungsvorschlag)",""),IF(OR(J299="",J299="bitte auswählen"),ADDRESS(ROW(),COLUMN(J299),4)&" (Anmerkung / Begründung)",""),IF(OR(K299="",K299="bitte auswählen"),ADDRESS(ROW(),COLUMN(K299),4)&" (Anmerkungsart)","")))))}

Sheet Auszublendende Reiter >>

Sheet Kapitel
A1: Prozessdokument | D1: Rahmendokument | G1: Dropdown Prozessdokument | I1: Dropdown Rahmendokument | K1: Dropdown Zeilenbereich
A3: Kapitelnr. | B3: Kapiteltitel | D3: Kapitelnr. | E3: Kapiteltitel | G3: Allgemeine Anmerkung | I3: Allgemeine Anmerkung | K3: Zeile (Auswahl)
A4: 1 | B4: Einleitung | D4: 1 | E4: Einleitung | G4: {=_xlfn.VSTACK("bitte auswählen",A4:A245&"")} -> bitte auswählen | I4: {=_xlfn.VSTACK("bitte auswählen",D4:D169&"")} -> bitte auswählen | K4: bitte auswählen
A5: 2 | B5: Definitionen und Abkürzungen | D5: 2 | E5: Definitionen und Abkürzungen | G5: 1 | I5: 1 | L5: 1
A6: 2.1 | B6: Rollen und Ausprägungsart | D6: 2.1 | E6: Rollen und Ausprägungsart | G6: 2 | I6: 2 | L6: 2
A7: 2.2 | B7: Objekte und Gebiete | D7: 2.2 | E7: Objekte und Gebiete | G7: 2.1 | I7: 2.1 | L7: 3
A8: 2.3 | B8: Weitere Bezeichnungen und Definitionen | D8: 2.2.1 | E8: Neue Bildungsregel SR gemäß Kap. 6.1.5 BilAReM | G8: 2.2 | I8: 2.2 | L8: 4
A9: 2.4 | B9: Liste der Synonyme | D9: 2.2.1.1 | E9: Begründung SR | G9: 2.3 | I9: 2.2.1 | L9: 5
A10: 2.5 | B10: Anforderungen an die Marktteilnehmer | D10: 2.2.1 | E10: Ergänzende Hinweise zu Steuergruppen | G10: 2.4 | I10: 2.2.1.1 | L10: 6
A11: 2.6 | B11: Zeitangaben | D11: 2.2.2 | E11: Ergänzende Hinweise zu Cluster-Ressourcen | G11: 2.5 | I11: 2.2.1 | L11: 7
A12: 2.7 | B12: Fehlerfälle in der UC-Tabelle | D12: 2.3 | E12: Weitere Bezeichnungen und Definitionen | G12: 2.6 | I12: 2.2.2 | L12: 8
A13: 3 | B13: Basisdatenaustausche | D13: 2.4 | E13: Liste der Synonyme | G13: 2.7 | I13: 2.3 | L13: 9
A14: 3.1 | B14: Stammdaten | D14: 3 | E14: Basisdatenaustausch | G14: 3 | I14: 2.4 | L14: 10
A15: 3.1.1 | B15: Use-Case: Stammdatenmeldung vom ANB ausgehend | D15: 3.1 | E15: Stammdaten | G15: 3.1 | I15: 3 | L15: 11
A16: 3.1.1.1 | B16: UC: Stammdatenmeldung vom ANB ausgehend | D16: 3.1.1 | E16: Grundlegende Regelungen | G16: 3.1.1 | I16: 3.1 | L16: 12
A17: 3.1.1.2 | B17: SD: Stammdatenmeldung vom ANB ausgehend | D17: 3.1.1.1 | E17: Verantwortlichkeiten / Berechtigungen | G17: 3.1.1.1 | I17: 3.1.1 | L17: 13
... A109: 3.5.1.2 | B109: SD: Übermittlung markbedingte Anpassung im Prognosemodell | D109: 8.3.1.2 | E109: Jahresbetriebsstunden | G109: 3.5.1.1 | I109: 8.3.1.1 | L109: 105
A110: 3.6 | B110: Flexibilitätsbeschränkungen | D110: 8.3.1.3 | E110: Speicherzyklen-Begrenzung | G110: 3.5.1.2 | I110: 8.3.1.2
A111: 3.6.1 | B111: Use-Case: Übermittlung Flex-Beschränkung | D111: 8.3.2 | E111: Erläuterungen zu den spezifischen Stammdaten für Speicher | G111: 3.6 | I111: 8.3.1.3
A112: 3.6.1.1 | B112: UC: Übermittlung Flex-Beschränkung | D112: 8.3.2.1 | E112: Nutzbare Kapazität | G112: 3.6.1 | I112: 8.3.2
A113: 3.6.1.2 | B113: SD: Übermittlung Flex-Beschränkung | D113: 8.3.2.2 | E113: Wirkungsgrad | G113: 3.6.1.1 | I113: 8.3.2.1
A114: 3.7 | B114: Sensitivitäten | D114: 8.4 | E114: Planungsdaten | G114: 3.6.1.2 | I114: 8.3.2.2
A115: 3.7.1 | B115: Use-Case: Übermittlung von Sensitivitäten zu Planungsdaten für SR | D115: 8.4.1 | E115: Erläuterungen zu den spezifischen Planungsdaten für Speicher | G115: 3.7 | I115: 8.4
A116: 3.7.1.1 | B116: UC: Übermittlung von Sensitivitäten zu Planungsdaten für SR | D116: 8.4.1.1 | E116: Füllstand für SSE [MWh] | G116: 3.7.1 | I116: 8.4.1
A117: 3.7.1.2 | B117: SD: Übermittlung von Sensitivitäten zu Planungsdaten für SR | D117: 8.4.1.2 | E117: Arbeitsvolumen und Füllstandgrenzen für SSE [MWh] (4.2.23) | G117: 3.7.1.1 | I117: 8.4.1.1
A118: 3.7.2 | B118: Use-Case: Übermittlung von Sensitivitäten zu Planungsdaten für SG | D118: 8.4.1.3 | E118: Zyklenrestriktion für SSE [MWh] (3.2.1.26) | G118: 3.7.1.2 | I118: 8.4.1.2
A119: 3.7.2.1 | B119: UC: Übermittlung von Sensitivitäten zu Planungsdaten für SG | D119: 8.4.2 | E119: Weitere ergänzende Erläuterungen für Speicher: | G119: 3.7.2 | I119: 8.4.1.3
A120: 3.7.2.2 | B120: SD: Übermittlung von Sensitivitäten zu Planungsdaten für SG | D120: 8.4.3 | E120: Umgang mit Planungsdaten bei Speicher-Clustern | G120: 3.7.2.1 | I120: 8.4.2
A121: 3.7.3 | B121: Use-Case: Übermittlung von Sensitivitäten zu Planungsdaten für CR | D121: 8.5 | E121: Kostenblätter bei Speichern | G121: 3.7.2.2 | I121: 8.4.3
... A164: 4.2.1.2 | B164: SD: Anweisung des Abrufs einer SR im Duldungsfall mit Sollwertanweisung im Prognosemodell | D164: C2.9 | E164: Ergebnis | G164: 4.2.1.1 | I164: C2.8
A165: 4.2.2 | B165: Use-Case: Anweisung des Abrufs einer SR im Aufforderungsfall mit Delta-/Sollwertanweisung im Prognosemodell | G165: 4.2.1.2 | I165: C2.9
A166: 4.2.2.1 | B166: UC: Anweisung des Abrufs einer SR im Aufforderungsfall mit Delta-/Sollwertanweisung im Prognosemodell | G166: 4.2.2
A167: 4.2.2.2 | B167: SD: Anweisung des Abrufs einer SR im Aufforderungsfall mit Delta-/Sollwertanweisung im Prognosemodell | G167: 4.2.2.1
A168: 4.2.3 | B168: Use-Case: Aktualisierung der Abrufrückmeldung für den Abruf einer SR im Aufforderungsfall im Prognosemodell | G168: 4.2.2.2
A169: 4.2.3.1 | B169: UC: Aktualisierung der Abrufrückmeldung für den Abruf einer SR im Aufforderungsfall im Prognosemodell | G169: 4.2.3
A170: 4.2.3.2 | B170: SD: Aktualisierung der Abrufrückmeldung für den Abruf einer SR im Aufforderungsfall im Prognosemodell | G170: 4.2.3.1
A171: 4.3 | B171: Anweisungen von Abrufen einer SR zwischen NB und EIV im Planwertmodell | G171: 4.2.3.2
A172: 4.3.1 | B172: Use-Case: Anweisung des Abrufs einer SR im Duldungsfall mit Sollwertanweisung im Planwertmodell | G172: 4.3
A173: 4.3.1.1 | B173: UC: Anweisung des Abrufs einer SR im Duldungsfall mit Sollwertanweisung im Planwertmodell | G173: 4.3.1
A174: 4.3.1.2 | B174: SD: Anweisung des Abrufs einer SR im Duldungsfall mit Sollwertanweisung im Planwertmodell | G174: 4.3.1.1
...
